BEGIN:VCALENDAR
VERSION:2.0
PRODID:-//Plone.org//NONSGML plone.app.event//EN
X-WR-TIMEZONE:Europe/Rome
BEGIN:VEVENT
SUMMARY:DONNE CRIMINALI
DTSTART;TZID=Europe/Rome;VALUE=DATE-TIME:20260424T200000
DTEND;TZID=Europe/Rome;VALUE=DATE-TIME:20260424T230000
DTSTAMP;VALUE=DATE-TIME:20260420T121011Z
UID:a5f247455b00489888e8f8e8455a4d56@plone5211b
CONTACT:Nadia\, 3355432461
CREATED;VALUE=DATE-TIME:20260420T073422Z
DESCRIPTION:CENA E SERATA CONVEGNO
LAST-MODIFIED;VALUE=DATE-TIME:20260420T073605Z
LOCATION:DEFILIPPI\, via Brambilla 15\, Varese (VA)
URL:https://www.quotidiemagazine.it/events/donne-criminali
END:VEVENT
BEGIN:VTIMEZONE
TZID:Europe/Rome
X-LIC-LOCATION:Europe/Rome
BEGIN:DAYLIGHT
DTSTART;VALUE=DATE-TIME:20260329T030000
TZNAME:CEST
TZOFFSETFROM:+0100
TZOFFSETTO:+0200
END:DAYLIGHT
END:VTIMEZONE
END:VCALENDAR
