BEGIN:VCALENDAR
VERSION:2.0
PRODID:-//Plone.org//NONSGML plone.app.event//EN
X-WR-TIMEZONE:Europe/Rome
BEGIN:VEVENT
SUMMARY:MEDICINA DI MONTAGNA ESCURSIONISMO E ALTA QUOTA
DTSTART;TZID=Europe/Rome;VALUE=DATE-TIME:20260521T193000
DTEND;TZID=Europe/Rome;VALUE=DATE-TIME:20260521T223000
DTSTAMP;VALUE=DATE-TIME:20260421T143027Z
UID:aa21378591b14f1c88501395c2f9b83b@plone5211b
ATTENDEE;CN="Dr. LUIGI VANONI";ROLE=REQ-PARTICIPANT:Dr. LUIGI VANONI
CONTACT:segreteria@cantonilab.it
CREATED;VALUE=DATE-TIME:20260421T092506Z
DESCRIPTION:CONVEGNO EVENTO GRATUITO
LAST-MODIFIED;VALUE=DATE-TIME:20260421T100446Z
LOCATION:CANTONILAB\, via Giovanni Cantoni 7\, Milano
URL:https://www.quotidiemagazine.it/events/medicina-di-montagna-escursioni
 smo-e-alta-quota
END:VEVENT
BEGIN:VTIMEZONE
TZID:Europe/Rome
X-LIC-LOCATION:Europe/Rome
BEGIN:DAYLIGHT
DTSTART;VALUE=DATE-TIME:20260329T030000
TZNAME:CEST
TZOFFSETFROM:+0100
TZOFFSETTO:+0200
END:DAYLIGHT
END:VTIMEZONE
END:VCALENDAR
